BEGIN:VCALENDAR
PRODID:-//AT Content Types//AT Event//EN
VERSION:1.0
BEGIN:VEVENT
DTSTART:20241023T123000Z
DTEND:20241023T153000Z
DCREATED:20240903T103903Z
UID:ATEvent-8c2ca2f566144cd8905da5297beb02e1
SEQUENCE:0
LAST-MODIFIED:20240903T135157Z
SUMMARY:Workshop: intelligenza artificiale e sostenibilità sociale
PRIORITY:3
TRANSP:0
END:VEVENT
END:VCALENDAR
