BEGIN:VCALENDAR
PRODID:-//AT Content Types//AT Event//EN
VERSION:1.0
BEGIN:VEVENT
DTSTART:20201112T160000Z
DTEND:20201112T173000Z
DCREATED:20201105T155801Z
UID:ATEvent-69c68d22917445bfa60cdb478db17576
SEQUENCE:0
LAST-MODIFIED:20201123T100837Z
SUMMARY:Webinar Pitch Boarding Pass per il tuo progetto europeo vincente
PRIORITY:3
TRANSP:0
END:VEVENT
END:VCALENDAR
