BEGIN:VCALENDAR
PRODID:-//AT Content Types//AT Event//EN
VERSION:2.0
METHOD:PUBLISH
BEGIN:VEVENT
DTSTAMP:20260424T040900Z
CREATED:20240326T110618Z
UID:ATEvent-4be589809b1e41ee88b4ae7bcddf032f
LAST-MODIFIED:20240326T135139Z
SUMMARY:MUSAE Matchmaking: tutto quello che c'è da sapere
DTSTART:20240328T143000Z
DTEND:20240328T153000Z
DESCRIPTION:Webinar MUSAE - Secondo bando aperto: come fare matching\,
  come fare domanda
LOCATION:Online
CLASS:PUBLIC
END:VEVENT
END:VCALENDAR
