BEGIN:VCALENDAR
PRODID:-//AT Content Types//AT Event//EN
VERSION:1.0
BEGIN:VEVENT
DTSTART:20180518T073500Z
DTEND:20180518T073500Z
DCREATED:20180518T073545Z
UID:ATEvent-cd981d56499344b097e82d38c67a2a59
SEQUENCE:0
LAST-MODIFIED:20180518T090622Z
SUMMARY:Webinar di Confindustria sui finanziamenti europei: programma LIFE e le opportunità per le imprese
PRIORITY:3
TRANSP:0
END:VEVENT
END:VCALENDAR
