BEGIN:VCALENDAR
PRODID:-//AT Content Types//AT Event//EN
VERSION:2.0
METHOD:PUBLISH
BEGIN:VEVENT
DTSTAMP:20260424T054743Z
CREATED:20150916T134241Z
UID:ATEvent-c83290dd99774dda9c4c4d4da606607e
LAST-MODIFIED:20150916T151607Z
SUMMARY:Waste to energy in the circular economy
DTSTART:20151021T080000Z
DTEND:20151022T130000Z
DESCRIPTION:Convegno internazionale organizzato dal Cluster danese per
  l’Energia e L’Ambiente CLEAN\, in collaborazione con Lombardy Ene
 rgy Cleantech Cluster (LE2C)
LOCATION:Copenhagen
CLASS:PUBLIC
END:VEVENT
END:VCALENDAR
