BEGIN:VCALENDAR
PRODID:-//AT Content Types//AT Event//EN
VERSION:1.0
BEGIN:VEVENT
DTSTART:20250318T050000Z
DTEND:20250403T215500Z
DCREATED:20250311T155039Z
UID:ATEvent-e18e7b6324614316b09a1aa1faff8b3f
SEQUENCE:0
LAST-MODIFIED:20250311T155803Z
SUMMARY:Technology & Business Cooperation Days 2025
DESCRIPTION:Evento B2B online e in presenza
LOCATION:Hannover\, Germania
PRIORITY:3
TRANSP:0
END:VEVENT
END:VCALENDAR
