BEGIN:VCALENDAR
PRODID:-//AT Content Types//AT Event//EN
VERSION:2.0
METHOD:PUBLISH
BEGIN:VEVENT
DTSTAMP:20260424T041827Z
CREATED:20251104T160758Z
UID:ATEvent-0c52db3ada98487d9477e457487675fb
LAST-MODIFIED:20251104T160928Z
SUMMARY:SME Assembly 2025: evento di riferimento per le PMI europee
DTSTART:20251109T230000Z
DTEND:20251112T225500Z
CLASS:PUBLIC
END:VEVENT
END:VCALENDAR
