BEGIN:VCALENDAR
PRODID:-//AT Content Types//AT Event//EN
VERSION:2.0
METHOD:PUBLISH
BEGIN:VEVENT
DTSTAMP:20260424T042223Z
CREATED:20190115T134229Z
UID:ATEvent-172d9ba960b745b491a537cd124f7f43
LAST-MODIFIED:20190121T150250Z
SUMMARY:Sfide e opportunità di una ageing society: l’importanza di una filiera della Silver Economy per il mercato italiano
DTSTART:20190219T080000Z
DTEND:20190218T230000Z
URL:https://www.assolombarda.it/le-imprese/filiere/filiera-life-sciences/informazioni/sfide-e-opportunita-di-una-ageing-society-l2019importanza-di-una-filiera-della-silver-economy-per-il-mercato-italiano/
CLASS:PUBLIC
END:VEVENT
END:VCALENDAR
