BEGIN:VCALENDAR
PRODID:-//AT Content Types//AT Event//EN
VERSION:2.0
METHOD:PUBLISH
BEGIN:VEVENT
DTSTAMP:20260424T041403Z
CREATED:20190214T093540Z
UID:ATEvent-d244d1e0fb5245449c5732c3ad826555
LAST-MODIFIED:20190220T095821Z
SUMMARY:Presentazione progetto VIDA – Value added Innovation in fooD chAins
DTSTART:20190305T083000Z
DTEND:20190305T110000Z
CLASS:PUBLIC
END:VEVENT
END:VCALENDAR
