BEGIN:VCALENDAR
PRODID:-//AT Content Types//AT Event//EN
VERSION:1.0
BEGIN:VEVENT
DTSTART:20240506T220000Z
DTEND:20240313T230000Z
DCREATED:20240325T145559Z
UID:ATEvent-c6ce3258af184644bc27e12000b99c0f
SEQUENCE:0
LAST-MODIFIED:20240326T105141Z
SUMMARY:MUSAE: opportunità di networking per PMI e artisti
DESCRIPTION:Evento b2b per riunire PMI e artisti provenienti da tutta 
 Europa
LOCATION:Milano
PRIORITY:3
TRANSP:0
END:VEVENT
END:VCALENDAR
