BEGIN:VCALENDAR
PRODID:-//AT Content Types//AT Event//EN
VERSION:1.0
BEGIN:VEVENT
DTSTART:20180529T070000Z
DTEND:20180601T160000Z
DCREATED:20180420T093747Z
UID:ATEvent-0ec6c514fada4f20a02f3e95e1655120
SEQUENCE:0
LAST-MODIFIED:20180420T094458Z
SUMMARY:IPACK IMA  29 maggio-1 giugno 2018
PRIORITY:3
TRANSP:0
END:VEVENT
END:VCALENDAR
