BEGIN:VCALENDAR
PRODID:-//AT Content Types//AT Event//EN
VERSION:2.0
METHOD:PUBLISH
BEGIN:VEVENT
DTSTAMP:20260424T041627Z
CREATED:20150921T092932Z
UID:ATEvent-6e41993879244f31af7d2be0603a1f37
LAST-MODIFIED:20151008T080315Z
SUMMARY:Innovazione per la competitività: quali opportunità per le imprese lombarde
DTSTART:20151008T120000Z
DTEND:20151008T153000Z
LOCATION:Milano
CLASS:PUBLIC
END:VEVENT
END:VCALENDAR
