BEGIN:VCALENDAR
PRODID:-//AT Content Types//AT Event//EN
VERSION:2.0
METHOD:PUBLISH
BEGIN:VEVENT
DTSTAMP:20260424T040918Z
CREATED:20260305T135113Z
UID:ATEvent-3da93e093adb4d39bf5aa5917ebb1fd5
LAST-MODIFIED:20260305T135507Z
SUMMARY:Innovation in Construction Virtual Matchmaking
DTSTART:20260303T093000Z
DTEND:20260305T180000Z
DESCRIPTION:Evento gratuito di matchmaking
CLASS:PUBLIC
END:VEVENT
END:VCALENDAR
