BEGIN:VCALENDAR
PRODID:-//AT Content Types//AT Event//EN
VERSION:2.0
METHOD:PUBLISH
BEGIN:VEVENT
DTSTAMP:20260424T053111Z
CREATED:20250825T130739Z
UID:ATEvent-11c578c24b6c444a8aebf55c0a1a39f2
LAST-MODIFIED:20250825T132522Z
SUMMARY:Green Days Pollutec 2025: evento di matchmaking per soluzioni ambientali ed energetiche
DTSTART:20251006T220000Z
DTEND:20251010T215500Z
CLASS:PUBLIC
END:VEVENT
END:VCALENDAR
