BEGIN:VCALENDAR
PRODID:-//AT Content Types//AT Event//EN
VERSION:1.0
BEGIN:VEVENT
DTSTART:20210928T080000Z
DTEND:20210928T103000Z
DCREATED:20210903T085957Z
UID:ATEvent-0c3cccfda8a7405bb91470f3f90d1070
SEQUENCE:0
LAST-MODIFIED:20210903T102323Z
SUMMARY:Green Building e obiettivi di sviluppo sostenibile: dal green washing alla sostenibilità allargata
LOCATION:Ibrido
PRIORITY:3
TRANSP:0
END:VEVENT
END:VCALENDAR
