BEGIN:VCALENDAR
PRODID:-//AT Content Types//AT Event//EN
VERSION:1.0
BEGIN:VEVENT
DTSTART:20240423T080000Z
DTEND:20240423T093000Z
DCREATED:20240325T142651Z
UID:ATEvent-78a7a5a85ce94516be72fc131ee048d6
SEQUENCE:0
LAST-MODIFIED:20240325T150625Z
SUMMARY:EUIPO: Intellectual Property Enforcement
DESCRIPTION:Workshop Online "Intellectual Property Enforcement Basics 
 for Business Advisors"
LOCATION:Online
PRIORITY:3
TRANSP:0
END:VEVENT
END:VCALENDAR
