BEGIN:VCALENDAR
PRODID:-//AT Content Types//AT Event//EN
VERSION:2.0
METHOD:PUBLISH
BEGIN:VEVENT
DTSTAMP:20260424T041448Z
CREATED:20180907T120051Z
UID:ATEvent-0a41ed69e3bd45379b928a9836804c4c
LAST-MODIFIED:20180907T131207Z
SUMMARY:Brockerage event @POLLUTEC  - Lione 27-30 novembre
DTSTART:20181127T080000Z
DTEND:20181130T170000Z
CONTACT:Diana Caputo\, 0258370811\, d.caputo@confindustria.lombardia.it
URL:https://green-days-pollutec-2018.b2match.io/
CLASS:PUBLIC
END:VEVENT
END:VCALENDAR
