BEGIN:VCALENDAR
PRODID:-//AT Content Types//AT Event//EN
VERSION:2.0
METHOD:PUBLISH
BEGIN:VEVENT
DTSTAMP:20260424T041321Z
CREATED:20250611T155204Z
UID:ATEvent-d87d679a43b243b59497c1666ce21239
LAST-MODIFIED:20250611T155911Z
SUMMARY:B2B: Torino Fashion Match 2025
DTSTART:20250630T220000Z
DTEND:20250702T215500Z
DESCRIPTION:Opportunità di matchmaking per promuovere nuove sinergie 
 nella moda
URL:https://www.b2match.com/e/b2b-torino-fashion-match-2025
CLASS:PUBLIC
END:VEVENT
END:VCALENDAR
