BEGIN:VCALENDAR
PRODID:-//AT Content Types//AT Event//EN
VERSION:2.0
METHOD:PUBLISH
BEGIN:VEVENT
DTSTAMP:20260424T041121Z
CREATED:20170426T125426Z
UID:ATEvent-81e3199a15f14c5494d2c32b04c21eea
LAST-MODIFIED:20170426T132945Z
SUMMARY:B2B Innovat&Match - Bologna 8-9 giugno
DTSTART:20170608T070000Z
DTEND:20170609T160000Z
DESCRIPTION:International Matchmaking Event @Innovat&Match
CONTACT:Roberta Alberti\, 0258370812\, een1@confindustria.lombardia.it
URL:https://www.b2match.eu/r2b2017
CLASS:PUBLIC
END:VEVENT
END:VCALENDAR
