BEGIN:VCALENDAR
PRODID:-//AT Content Types//AT Event//EN
VERSION:2.0
METHOD:PUBLISH
BEGIN:VEVENT
DTSTAMP:20260421T083059Z
CREATED:20250805T094706Z
UID:ATEvent-be2e63b28a9c463691b82f5ab0948230
LAST-MODIFIED:20250806T090942Z
SUMMARY:Zona Nord Ovest - Finanza agevolata\, Assolombarda ti guida per i prossimi 6 mesi
DTSTART:20250922T150000Z
DTEND:20250922T173000Z
DESCRIPTION:Incontro informativo e di networking della Zona Nord Ovest
  sul tema della finanza agevolata
LOCATION:Settimo Milanese
CLASS:PUBLIC
END:VEVENT
END:VCALENDAR
