BEGIN:VCALENDAR
PRODID:-//AT Content Types//AT Event//EN
VERSION:1.0
BEGIN:VEVENT
DTSTART:20220627T070000Z
DTEND:20220627T163000Z
DCREATED:20220622T153651Z
UID:ATEvent-7fb71cb4539f4a1987fd7fb1afb0854b
SEQUENCE:0
LAST-MODIFIED:20220624T130831Z
SUMMARY:Young Innovators Business Forum
DESCRIPTION:L’evento ANGI che promuove l’innovazione aziendale del
 l’industria italiana
LOCATION:Milano
PRIORITY:3
TRANSP:0
END:VEVENT
END:VCALENDAR
