BEGIN:VCALENDAR
PRODID:-//AT Content Types//AT Event//EN
VERSION:2.0
METHOD:PUBLISH
BEGIN:VEVENT
DTSTAMP:20260424T132145Z
CREATED:20190613T102536Z
UID:ATEvent-c821171d8aae4fcc91fa4531afb31581
LAST-MODIFIED:20190620T161749Z
SUMMARY:Workshop tematico "Lavori in corso"
DTSTART:20190620T123000Z
DTEND:20190620T140000Z
LOCATION:Milano
CLASS:PUBLIC
END:VEVENT
END:VCALENDAR
