BEGIN:VCALENDAR
PRODID:-//AT Content Types//AT Event//EN
VERSION:1.0
BEGIN:VEVENT
DTSTART:20190620T123000Z
DTEND:20190620T140000Z
DCREATED:20190613T145838Z
UID:ATEvent-b511aa14c6a844e0b107faf558ca4457
SEQUENCE:0
LAST-MODIFIED:20190620T162106Z
SUMMARY:Workshop tematico "Il 5G\, la strada del futuro"
LOCATION:Milano
PRIORITY:3
TRANSP:0
END:VEVENT
END:VCALENDAR
