BEGIN:VCALENDAR
PRODID:-//AT Content Types//AT Event//EN
VERSION:2.0
METHOD:PUBLISH
BEGIN:VEVENT
DTSTAMP:20260425T181527Z
CREATED:20160531T145350Z
UID:ATEvent-698c1707880c4ad58c56c096e9920656
LAST-MODIFIED:20160531T145446Z
SUMMARY:workshop gratuito sulle opportunità di business in Vietnam
DTSTART:20160628T083000Z
DTEND:20160628T110000Z
LOCATION:Mantova
CLASS:PUBLIC
END:VEVENT
END:VCALENDAR
