BEGIN:VCALENDAR
PRODID:-//AT Content Types//AT Event//EN
VERSION:1.0
BEGIN:VEVENT
DTSTART:20191106T130000Z
DTEND:20191106T163000Z
DCREATED:20191007T090656Z
UID:ATEvent-d598a913248c46d9867fcbe544abe11f
SEQUENCE:0
LAST-MODIFIED:20191021T131202Z
SUMMARY:Da Horizon 2020 a Horizon Europe: il nuovo programma di incentivi per la ricerca e l'innovazione
LOCATION:Milano
PRIORITY:3
TRANSP:0
END:VEVENT
END:VCALENDAR
