BEGIN:VCALENDAR
PRODID:-//AT Content Types//AT Event//EN
VERSION:2.0
METHOD:PUBLISH
BEGIN:VEVENT
DTSTAMP:20260419T082555Z
CREATED:20231114T103225Z
UID:ATEvent-74706c6e00b94ca09328c727c9bbf7b2
LAST-MODIFIED:20231114T103557Z
SUMMARY:Whistleblowing: la nuova normativa e le soluzioni di Confindustria Brescia per un più facile adempimento
DTSTART:20231116T083000Z
DTEND:20231116T100000Z
LOCATION:Online
CLASS:PUBLIC
END:VEVENT
END:VCALENDAR
