BEGIN:VCALENDAR
PRODID:-//AT Content Types//AT Event//EN
VERSION:2.0
METHOD:PUBLISH
BEGIN:VEVENT
DTSTAMP:20260425T002019Z
CREATED:20240703T142459Z
UID:ATEvent-f95c4a912d1141aa8208ec4e291616e9
LAST-MODIFIED:20240703T145128Z
SUMMARY:Welfare e Smart Working - Come attrarre e fidelizzare le persone
DTSTART:20240711T080000Z
DTEND:20240711T100000Z
DESCRIPTION:Assolombarda ripercorre le principali norme che regolano i
 l welfare aziendale e il lavoro agile e risponde alle vostre domande.
LOCATION:Online
CLASS:PUBLIC
END:VEVENT
END:VCALENDAR
