BEGIN:VCALENDAR
PRODID:-//AT Content Types//AT Event//EN
VERSION:2.0
METHOD:PUBLISH
BEGIN:VEVENT
DTSTAMP:20260423T152435Z
CREATED:20170927T144817Z
UID:ATEvent-c6bf7ff6959148b48bc93ffd5f0e0895
LAST-MODIFIED:20170927T145010Z
SUMMARY:Welfare con noi - Le piattaforme informatiche
DTSTART:20171011T140000Z
DTEND:20171011T160000Z
LOCATION:Brescia
CLASS:PUBLIC
END:VEVENT
END:VCALENDAR
