BEGIN:VCALENDAR
PRODID:-//AT Content Types//AT Event//EN
VERSION:1.0
BEGIN:VEVENT
DTSTART:20210324T090000Z
DTEND:20210324T110000Z
DCREATED:20210323T161642Z
UID:ATEvent-3a9784b48d8e480f9845c72fb4effac3
SEQUENCE:0
LAST-MODIFIED:20210323T161701Z
SUMMARY:Webinar di approfondimento sulle principali novità della nuova Plastic Tax
LOCATION:On line
PRIORITY:3
TRANSP:0
END:VEVENT
END:VCALENDAR
