BEGIN:VCALENDAR
PRODID:-//AT Content Types//AT Event//EN
VERSION:2.0
METHOD:PUBLISH
BEGIN:VEVENT
DTSTAMP:20260421T190427Z
CREATED:20231020T082911Z
UID:ATEvent-cbb21eae42f0492db9cdca95c284bc55
LAST-MODIFIED:20231020T135800Z
SUMMARY:Webinar dedicato alla digitalizzazione del processo doganale: novità operative export
DTSTART:20231024T073000Z
DTEND:20231024T103000Z
DESCRIPTION:Le novità operative per le imprese esportatrici in vista 
 del completamento del processo di reingegnerizzazione del sistema AIDA
  con riferimento ai regimi di importazione\, esportazione e transito.
LOCATION:Online
CLASS:PUBLIC
END:VEVENT
END:VCALENDAR
