BEGIN:VCALENDAR
PRODID:-//AT Content Types//AT Event//EN
VERSION:2.0
METHOD:PUBLISH
BEGIN:VEVENT
DTSTAMP:20260419T152250Z
CREATED:20221027T105516Z
UID:ATEvent-3c5d80cc6e6d4c9ba7fd9045c988f660
LAST-MODIFIED:20221027T121154Z
SUMMARY:Webinar aziendale 2022: nuove opportunità per i sostituti d'imposta
DTSTART:20221114T083000Z
DTEND:20221114T110000Z
LOCATION:Online
CLASS:PUBLIC
END:VEVENT
END:VCALENDAR
