BEGIN:VCALENDAR
PRODID:-//AT Content Types//AT Event//EN
VERSION:2.0
METHOD:PUBLISH
BEGIN:VEVENT
DTSTAMP:20260421T082932Z
CREATED:20250513T160628Z
UID:ATEvent-28dcffd1f0c144279cd03b020d70df92
LAST-MODIFIED:20250520T090731Z
SUMMARY:Webinar “NIS2 per le imprese: aggiornamento delle informazioni sul portale ACN”
DTSTART:20250520T130000Z
DTEND:20250520T140000Z
LOCATION:Online
CLASS:PUBLIC
END:VEVENT
END:VCALENDAR
