BEGIN:VCALENDAR
PRODID:-//AT Content Types//AT Event//EN
VERSION:2.0
METHOD:PUBLISH
BEGIN:VEVENT
DTSTAMP:20260421T175014Z
CREATED:20240518T164214Z
UID:ATEvent-33cb3214af784b2d9de27db331a6298e
LAST-MODIFIED:20240518T164220Z
SUMMARY:Web Meeting: "Focus AI: Pianificazione della produzione e gestione ordini" - 2° incontro del ciclo "Smart Pills\, 30 minuti nel Futuro - Focus AI"
DTSTART:20240523T093000Z
DTEND:20240523T100000Z
LOCATION:Online
CLASS:PUBLIC
END:VEVENT
END:VCALENDAR
