BEGIN:VCALENDAR
PRODID:-//AT Content Types//AT Event//EN
VERSION:1.0
BEGIN:VEVENT
DTSTART:20240509T093000Z
DTEND:20240509T100000Z
DCREATED:20240502T211922Z
UID:ATEvent-139a3da5937c4482a86323038c2eee85
SEQUENCE:0
LAST-MODIFIED:20240502T211932Z
SUMMARY:Web Meeting: "Focus AI: Analisi Dati e R&S" - 1° incontro del ciclo "Smart Pills\, 30 minuti nel Futuro - Focus AI"
LOCATION:Online
PRIORITY:3
TRANSP:0
END:VEVENT
END:VCALENDAR
