BEGIN:VCALENDAR
PRODID:-//AT Content Types//AT Event//EN
VERSION:1.0
BEGIN:VEVENT
DTSTART:20160322T170000Z
DTEND:20160322T190000Z
DCREATED:20160317T163813Z
UID:ATEvent-6da863b09086460db26765fbf6e4b902
SEQUENCE:0
LAST-MODIFIED:20160317T163826Z
SUMMARY:Vite d'Impresa
DESCRIPTION:Un talk show con due protagonisti: gli imprenditori - anzi
  imprenditrici - e i loro vini.
LOCATION:Legnano (MI)
PRIORITY:3
TRANSP:0
END:VEVENT
END:VCALENDAR
