BEGIN:VCALENDAR
PRODID:-//AT Content Types//AT Event//EN
VERSION:1.0
BEGIN:VEVENT
DTSTART:20191009T163000Z
DTEND:20191009T180000Z
DCREATED:20191001T151822Z
UID:ATEvent-19ad1adcce914ebeace2aace43e90be1
SEQUENCE:0
LAST-MODIFIED:20191001T151829Z
SUMMARY:Visita riservata alla mostra: Dal marmo al missile. Capolavori d'arte svelati fra tradizione e innovazione
LOCATION:Monza
PRIORITY:3
TRANSP:0
END:VEVENT
END:VCALENDAR
