BEGIN:VCALENDAR
PRODID:-//AT Content Types//AT Event//EN
VERSION:1.0
BEGIN:VEVENT
DTSTART:20180221T100000Z
DTEND:20180221T143000Z
DCREATED:20180214T162624Z
UID:ATEvent-843938416bac42168af3e99fedc388a9
SEQUENCE:0
LAST-MODIFIED:20180214T162657Z
SUMMARY:Visita presso Pirelli dedicata alla Filiera Automotive di Assolombarda
LOCATION:Settimo Torinese (TO)
PRIORITY:3
TRANSP:0
END:VEVENT
END:VCALENDAR
