BEGIN:VCALENDAR
PRODID:-//AT Content Types//AT Event//EN
VERSION:1.0
BEGIN:VEVENT
DTSTART:20180917T060000Z
DTEND:20180917T130000Z
DCREATED:20180910T154023Z
UID:ATEvent-0d43e8673bb44f27b4d52c1ab7bdc1b7
SEQUENCE:0
LAST-MODIFIED:20180910T154048Z
SUMMARY:Visita presso il Technology Applications Center Siemens
LOCATION:Piacenza
PRIORITY:3
TRANSP:0
END:VEVENT
END:VCALENDAR
