BEGIN:VCALENDAR
PRODID:-//AT Content Types//AT Event//EN
VERSION:1.0
BEGIN:VEVENT
DTSTART:20190129T100000Z
DTEND:20190129T153000Z
DCREATED:20190121T160334Z
UID:ATEvent-b641366950494a95a2bb94cc2d58138e
SEQUENCE:0
LAST-MODIFIED:20190121T160407Z
SUMMARY:Visita in Ferrero dedicata alla filiera Agroalimentare e al Gruppo Alimentazione di Assolombarda
LOCATION:Alba (CN)
PRIORITY:3
TRANSP:0
END:VEVENT
END:VCALENDAR
