BEGIN:VCALENDAR
PRODID:-//AT Content Types//AT Event//EN
VERSION:2.0
METHOD:PUBLISH
BEGIN:VEVENT
DTSTAMP:20260423T133445Z
CREATED:20240927T083122Z
UID:ATEvent-1daf6ad40562406999ded45e9182ece7
LAST-MODIFIED:20240930T130014Z
SUMMARY:Visita Galleria Campari - “Alla scoperta della cultura di impresa"
DTSTART:20241016T150000Z
DTEND:20241016T170000Z
DESCRIPTION:Percorso di visite aziendali del Gruppo Giovani Imprendito
 ri.
LOCATION:Sesto San Giovanni (Mi)
CLASS:PUBLIC
END:VEVENT
END:VCALENDAR
