BEGIN:VCALENDAR
PRODID:-//AT Content Types//AT Event//EN
VERSION:1.0
BEGIN:VEVENT
DTSTART:20190129T133000Z
DTEND:20190129T160000Z
DCREATED:20190121T161306Z
UID:ATEvent-b0820f688fc54cdf951780a288ea7a44
SEQUENCE:0
LAST-MODIFIED:20190121T161406Z
SUMMARY:Visita di networking in Kartell
LOCATION:Noviglio (MI)
PRIORITY:3
TRANSP:0
END:VEVENT
END:VCALENDAR
