BEGIN:VCALENDAR
PRODID:-//AT Content Types//AT Event//EN
VERSION:2.0
METHOD:PUBLISH
BEGIN:VEVENT
DTSTAMP:20260423T084736Z
CREATED:20191001T162356Z
UID:ATEvent-635b8858731340efb05c5ce39515cb70
LAST-MODIFIED:20191003T152511Z
SUMMARY:Visita alla Casa Vinicola Rocca dedicata alla filiera Agroalimentare
DTSTART:20191010T120000Z
DTEND:20191010T150000Z
DESCRIPTION:Visita alla cantina e opportunità di networking
LOCATION:Agrate Brianza (MB)
CLASS:PUBLIC
END:VEVENT
END:VCALENDAR
