BEGIN:VCALENDAR
PRODID:-//AT Content Types//AT Event//EN
VERSION:1.0
BEGIN:VEVENT
DTSTART:20220714T143000Z
DTEND:20220714T160000Z
DCREATED:20220713T144626Z
UID:ATEvent-9cc60737bacb4015975834bc643fdb3e
SEQUENCE:0
LAST-MODIFIED:20220713T144630Z
SUMMARY:Visita al laboratorio del Politecnico 'NEAR LAB' – la robotica a supporto della salute e non solo
LOCATION:Milano
PRIORITY:3
TRANSP:0
END:VEVENT
END:VCALENDAR
