BEGIN:VCALENDAR
PRODID:-//AT Content Types//AT Event//EN
VERSION:1.0
BEGIN:VEVENT
DTSTART:20210112T160000Z
DTEND:20210115T170000Z
DCREATED:20210112T111033Z
UID:ATEvent-d8e0795cdfa5456fb6e45c7663e56f00
SEQUENCE:0
LAST-MODIFIED:20210112T111336Z
SUMMARY:Virtual Techmission CES2021 – Las Vegas – San Francisco
LOCATION:On line
PRIORITY:3
TRANSP:0
END:VEVENT
END:VCALENDAR
