BEGIN:VCALENDAR
PRODID:-//AT Content Types//AT Event//EN
VERSION:1.0
BEGIN:VEVENT
DTSTART:20210914T070000Z
DTEND:20210914T083000Z
DCREATED:20210908T124309Z
UID:ATEvent-4c960b25d5864f46b57c7f736a411b0a
SEQUENCE:0
LAST-MODIFIED:20210909T145841Z
SUMMARY:Virtual breakfast con Unicredit: sostenibilità d'impresa e nuova finanza
LOCATION:On line
PRIORITY:3
TRANSP:0
END:VEVENT
END:VCALENDAR
