BEGIN:VCALENDAR
PRODID:-//AT Content Types//AT Event//EN
VERSION:1.0
BEGIN:VEVENT
DTSTART:20151018T135000Z
DTEND:20151025T145000Z
DCREATED:20150623T135716Z
UID:ATEvent-8245dc08c9c643b9af4e7937cc794f2a
SEQUENCE:0
LAST-MODIFIED:20150629T135402Z
SUMMARY:VII edizione settimana per l’energia
LOCATION:Bergamo
PRIORITY:3
TRANSP:0
END:VEVENT
END:VCALENDAR
