BEGIN:VCALENDAR
PRODID:-//AT Content Types//AT Event//EN
VERSION:1.0
BEGIN:VEVENT
DTSTART:20240305T100000Z
DTEND:20240305T110000Z
DCREATED:20240222T131301Z
UID:ATEvent-a9b65d8aad84401b9beb4fba931f7bde
SEQUENCE:0
LAST-MODIFIED:20240222T131315Z
SUMMARY:Verso un futuro sostenibile: il Programma LIFE
LOCATION:Online
PRIORITY:3
TRANSP:0
END:VEVENT
END:VCALENDAR
