BEGIN:VCALENDAR
PRODID:-//AT Content Types//AT Event//EN
VERSION:1.0
BEGIN:VEVENT
DTSTART:20160715T080000Z
DTEND:20160715T110000Z
DCREATED:20160711T132925Z
UID:ATEvent-8766b2cde5594726a48a5cf586b055fe
SEQUENCE:0
LAST-MODIFIED:20160711T132937Z
SUMMARY:Verified Gross Mass di un container
DESCRIPTION:confronto con l’Autorità competente e soluzioni operati
 ve
LOCATION:Milano
PRIORITY:3
TRANSP:0
END:VEVENT
END:VCALENDAR
