BEGIN:VCALENDAR
PRODID:-//AT Content Types//AT Event//EN
VERSION:2.0
METHOD:PUBLISH
BEGIN:VEVENT
DTSTAMP:20260424T052547Z
CREATED:20181208T143152Z
UID:ATEvent-35cccbad296e451fa9fe96ba2ef30b3f
LAST-MODIFIED:20181208T143207Z
SUMMARY:Verifiche fiscali ed indicazioni operative
DTSTART:20181217T160000Z
DTEND:20181217T180000Z
LOCATION:Legnano (MI)
CLASS:PUBLIC
END:VEVENT
END:VCALENDAR
