BEGIN:VCALENDAR
PRODID:-//AT Content Types//AT Event//EN
VERSION:2.0
METHOD:PUBLISH
BEGIN:VEVENT
DTSTAMP:20260421T121701Z
CREATED:20240223T111638Z
UID:ATEvent-8bd2af01c7164f8d8263889b180ffec4
LAST-MODIFIED:20240307T101805Z
SUMMARY:VARE.S.G. - La SOSTENIBILITA' a misura della TUA impresa
DTSTART:20240312T100000Z
DTEND:20240312T113000Z
LOCATION:Gallarate
CLASS:PUBLIC
END:VEVENT
END:VCALENDAR
